BEGIN:VCALENDAR
VERSION:2.0
PRODID:-//eventon.com NONSGML v1.0//EN
CALSCALE:GREGORIAN
METHOD:PUBLISH
BEGIN:VEVENT
UID:69e0b27b89ab3
DTSTAMP:20260416T095715Z
DTSTART:20260426
DTEND:20260427
LOCATION:
SUMMARY:Oranjerit 26 april 2026
DESCRIPTION:Oranjerit 26 april 2026\nhttps://eeec.nl/agenda/oranjerit-26-ap
 ril-2026/
URL:https://eeec.nl/agenda/oranjerit-26-april-2026/
END:VEVENT
END:VCALENDAR