BEGIN:VCALENDAR
VERSION:2.0
PRODID:-//eventon.com NONSGML v1.0//EN
CALSCALE:GREGORIAN
METHOD:PUBLISH
BEGIN:VEVENT
UID:69e0b27d8ffed
DTSTAMP:20260416T095717Z
DTSTART:20260501
DTEND:20260502
LOCATION:Twente
SUMMARY:Citro Classica 1-2 mei 2026
DESCRIPTION:https://www.citro-classica.nl\nhttps://eeec.nl/agenda/citro-cla
 ssica-1-2-mei-2026/
URL:https://eeec.nl/agenda/citro-classica-1-2-mei-2026/
END:VEVENT
END:VCALENDAR