BEGIN:VCALENDAR
VERSION:2.0
PRODID:-//eventon.com NONSGML v1.0//EN
CALSCALE:GREGORIAN
METHOD:PUBLISH
BEGIN:VEVENT
UID:69e0b27f851ba
DTSTAMP:20260416T095719Z
DTSTART:20260614
DTEND:20260615
LOCATION:
SUMMARY:Vaderdagrit 15 juni 2026
DESCRIPTION:Vaderdagrit 15 juni 2026\nhttps://eeec.nl/agenda/vaderdagrit-15
 -juni-2026/
URL:https://eeec.nl/agenda/vaderdagrit-15-juni-2026/
END:VEVENT
END:VCALENDAR