BEGIN:VCALENDAR
VERSION:2.0
PRODID:-//eventon.com NONSGML v1.0//EN
CALSCALE:GREGORIAN
METHOD:PUBLISH
BEGIN:VEVENT
UID:69e0b2898186d
DTSTAMP:20260416T095729Z
DTSTART:20260420T170000Z
DTEND:20260420T190000Z
LOCATION:Magazijn Birkstraat 119A 3768 HE Soest
SUMMARY:Magazijnavond 20 april 2026
DESCRIPTION:Magazijnavond 20 april 2026\nhttps://eeec.nl/agenda/magazijnavo
 nd-20-april-2026/
URL:https://eeec.nl/agenda/magazijnavond-20-april-2026/
END:VEVENT
END:VCALENDAR