BEGIN:VCALENDAR
VERSION:2.0
PRODID:-//eventon.com NONSGML v1.0//EN
CALSCALE:GREGORIAN
METHOD:PUBLISH
BEGIN:VEVENT
UID:69e0b28b82232
DTSTAMP:20260416T095731Z
DTSTART:20260518T170000Z
DTEND:20260518T190000Z
LOCATION:Magazijn Birkstraat 119A 3768 HE Soest
SUMMARY:Magazijnavond 18 mei 2026
DESCRIPTION:Magazijnavond 18 mei 2026\nhttps://eeec.nl/agenda/magazijnavond
 -18-mei-2026/
URL:https://eeec.nl/agenda/magazijnavond-18-mei-2026/
END:VEVENT
END:VCALENDAR