BEGIN:VCALENDAR
VERSION:2.0
PRODID:-//eventon.com NONSGML v1.0//EN
CALSCALE:GREGORIAN
METHOD:PUBLISH
BEGIN:VEVENT
UID:69e0b28d979a0
DTSTAMP:20260416T095733Z
DTSTART:20260622T170000Z
DTEND:20260622T190000Z
LOCATION:Magazijn Birkstraat 119A 3768 HE Soest
SUMMARY:Magazijnavond 22 juni 2026
DESCRIPTION:Magazijnavond 22 juni 2026\nhttps://eeec.nl/agenda/magazijnavon
 d-22-juni-2026/
URL:https://eeec.nl/agenda/magazijnavond-22-juni-2026/
END:VEVENT
END:VCALENDAR