BEGIN:VCALENDAR
VERSION:2.0
PRODID:-//eventon.com NONSGML v1.0//EN
CALSCALE:GREGORIAN
METHOD:PUBLISH
BEGIN:VEVENT
UID:69e0b29d8562b
DTSTAMP:20260416T095749Z
DTSTART:20260509T080000Z
DTEND:20260509T120000Z
LOCATION:Magazijn Birkstraat 119A 3768 HE Soest
SUMMARY:Magazijndag 9 mei 2026
DESCRIPTION:Magazijndag 9 mei 2026\nhttps://eeec.nl/agenda/magazijndag-9-me
 i-2026/
URL:https://eeec.nl/agenda/magazijndag-9-mei-2026/
END:VEVENT
END:VCALENDAR