BEGIN:VCALENDAR
VERSION:2.0
PRODID:-//eventon.com NONSGML v1.0//EN
CALSCALE:GREGORIAN
METHOD:PUBLISH
BEGIN:VEVENT
UID:69e0b29fe62fc
DTSTAMP:20260416T095751Z
DTSTART:20260606T080000Z
DTEND:20260606T120000Z
LOCATION:Magazijn Birkstraat 119A 3768 HE Soest
SUMMARY:Magazijndag 6 juni 2026
DESCRIPTION:Magazijndag 6 juni 2026\nhttps://eeec.nl/agenda/magazijndag-6-j
 uni-2026/
URL:https://eeec.nl/agenda/magazijndag-6-juni-2026/
END:VEVENT
END:VCALENDAR